BEGIN:VCALENDAR
PRODID:-//Microsoft Corporation//Outlook 14.0 MIMEDIR//EN
VERSION:2.0
METHOD:PUBLISH
X-MS-OLK-FORCEINSPECTOROPEN:TRUE
BEGIN:VTIMEZONE
TZID:Arabia Standard Time
BEGIN:STANDARD
DTSTART:16010311T020000
RRULE:FREQ=YEARLY;BYDAY=1SU;BYMONTH=11
TZOFFSETFROM:-0400
TZOFFSETTO:-0500
END:STANDARD
BEGIN:DAYLIGHT
DTSTART:16010311T020000
RRULE:FREQ=WEEKLY;BYDAY=2SU;BYMONTH=3
TZOFFSETFROM:-0500
TZOFFSETTO:-0400
END:DAYLIGHT
END:VTIMEZONE
BEGIN:VEVENT
CLASS:PUBLIC
CREATED:20240127T095936Z
DESCRIPTION:\nManaged by GCC CIGRE, On the patronage of Electricity and Water Authority Bahrain , the 20th GCC – CIGRE International Conference and 30th Exhibition for Electrical Equipment, GCC POWER 2024 Conference & Exhibition, will be held in Gulf Hotel, Manama, Bahrain on 11 - 13 November 2024 .In addition, Tutorials will be held on 11 November 2024 after the Opening Ceremony. This event gives participants the opportunity to learn about the latest developments in the electricity and energy industry, as well as providing exhibitors with access to the most lucrative deals.\n\nThe conference offers the ideal forum for all those concerned with the power sector to develop business relations and discuss the issues and challenges facing the power sector in the region. Delegates will have the opportunity to discuss the latest trends, challenges, developments and strategies to meet the region’s rapidly expanding energy needs through a series of panel and technical sessions.\n\nFor more details cigre-gccpower.com\n\n
DTEND;TZID="Arabia Standard Time":20241113T150000
DTSTAMP:20240127T095936Z
DTSTART;TZID="Arabia Standard Time":20241111T090000
LAST-MODIFIED:20240127T095936Z
PRIORITY:1
SEQUENCE:0
SUMMARY;LANGUAGE=en-us:GCC POWER 2024
LOCATION:FA
TRANSP:OPAQUE
UID:040000008200E00074C5B7101A82E0080000000070A07B8DC444CC01000000000000000
	010000000D9C9FE24791CA74288D0237E697A0D72
X-ALT-DESC;FMTTYPE=text/html:<!DOCTYPE HTML PUBLIC "-//W3C//DTD HTML 3.2//E
	N">\n<HTML>\n<HEAD>\n<META NAME="Generator" CONTENT="MS Exchange Server ve
	rsion 08.01.0240.003">\n<TITLE></TITLE>\n</HEAD>\n<BODY>\n<!-- Converted f
	rom text/rtf format -->\n\n<P DIR=LTR><SPAN LANG="en-us">Managed by GCC CIGRE, On the patronage of Electricity and Water Authority Bahrain , the 20th GCC – CIGRE International Conference and 30th Exhibition for Electrical Equipment, GCC POWER 2024 Conference & Exhibition, will be held in Gulf Hotel, Manama, Bahrain on 11 - 13 November 2024 .In addition, Tutorials will be held on 11 November 2024 after the Opening Ceremony. This event gives participants the opportunity to learn about the latest developments in the electricity and energy industry, as well as providing exhibitors with access to the most lucrative deals.</SPAN></P><P DIR=LTR><SPAN LANG="en-us">The conference offers the ideal forum for all those concerned with the power sector to develop business relations and discuss the issues and challenges facing the power sector in the region. Delegates will have the opportunity to discuss the latest trends, challenges, developments and strategies to meet the region’s rapidly expanding energy needs through a series of panel and technical sessions.</SPAN></P><P DIR=LTR><SPAN LANG="en-us">For more details <a href="http://cigre-gccpower.com/">cigre-gccpower.com</a></SPAN></P>\n\n</BODY>\n</HTML>
X-MICROSOFT-CDO-BUSYSTATUS:BUSY
X-MICROSOFT-CDO-IMPORTANCE:1
X-MICROSOFT-DISALLOW-COUNTER:FALSE
X-MS-OLK-CONFTYPE:0
BEGIN:VALARM
TRIGGER:-PT1W
ACTION:DISPLAY
DESCRIPTION:Reminder For GCC POWER 2024
END:VALARM
END:VEVENT
END:VCALENDAR